BEGIN:VCALENDAR
VERSION:2.0
PRODID:-//Ökologische Station Raddetäler - ECPv6.11.2.1//NONSGML v1.0//EN
CALSCALE:GREGORIAN
METHOD:PUBLISH
X-WR-CALNAME:Ökologische Station Raddetäler
X-ORIGINAL-URL:https://raddetaeler.de
X-WR-CALDESC:Veranstaltungen für Ökologische Station Raddetäler
REFRESH-INTERVAL;VALUE=DURATION:PT1H
X-Robots-Tag:noindex
X-PUBLISHED-TTL:PT1H
BEGIN:VTIMEZONE
TZID:UTC
BEGIN:STANDARD
TZOFFSETFROM:+0000
TZOFFSETTO:+0000
TZNAME:UTC
DTSTART:20240101T000000
END:STANDARD
END:VTIMEZONE
BEGIN:VEVENT
DTSTART;TZID=UTC:20251110T150000
DTEND;TZID=UTC:20251110T170000
DTSTAMP:20260422T021300
CREATED:20251027T133612Z
LAST-MODIFIED:20251027T133612Z
UID:2349-1762786800-1762794000@raddetaeler.de
SUMMARY:Zweckverbandsversammlung
DESCRIPTION:Die nächste Sitzung des Zweckverbands „Ökologische Station Raddetäler“ findet am 10.11.2025. Themen werden u.a. der Haushalt für das kommende Jahr und die Beschlussfassung der Empfehlungen des Beirats sein.
URL:https://raddetaeler.de/veranstaltung/zweckverbandsversammlung-3/
LOCATION:Bürgerhaus Vrees\, Werlter Str. 9\, Vrees\, 49757\, Deutschland
END:VEVENT
BEGIN:VEVENT
DTSTART;TZID=UTC:20251001T140000
DTEND;TZID=UTC:20251001T140000
DTSTAMP:20260422T021300
CREATED:20250818T105359Z
LAST-MODIFIED:20250818T105443Z
UID:2206-1759327200-1759327200@raddetaeler.de
SUMMARY:AG Öffentlichkeitsarbeit
DESCRIPTION:
URL:https://raddetaeler.de/veranstaltung/ag-oeffentlichkeitsarbeit/
LOCATION:Bürgerhaus Vrees\, Werlter Str. 9\, Vrees\, 49757\, Deutschland
END:VEVENT
BEGIN:VEVENT
DTSTART;TZID=UTC:20250910T140000
DTEND;TZID=UTC:20250910T140000
DTSTAMP:20260422T021300
CREATED:20250818T105114Z
LAST-MODIFIED:20250818T105532Z
UID:2202-1757512800-1757512800@raddetaeler.de
SUMMARY:AG Flächenbewirtschaftung
DESCRIPTION:
URL:https://raddetaeler.de/veranstaltung/ag-flaechenbewirtschaftung/
LOCATION:Bürgerhaus Vrees\, Werlter Str. 9\, Vrees\, 49757\, Deutschland
END:VEVENT
BEGIN:VEVENT
DTSTART;TZID=UTC:20250903T160000
DTEND;TZID=UTC:20250903T160000
DTSTAMP:20260422T021300
CREATED:20250818T104920Z
LAST-MODIFIED:20250818T104920Z
UID:2200-1756915200-1756915200@raddetaeler.de
SUMMARY:AG Prädationmanagement
DESCRIPTION:
URL:https://raddetaeler.de/veranstaltung/ag-praedationmanagement/
LOCATION:Bürgerhaus Vrees\, Werlter Str. 9\, Vrees\, 49757\, Deutschland
END:VEVENT
BEGIN:VEVENT
DTSTART;TZID=UTC:20250827T110000
DTEND;TZID=UTC:20250827T110000
DTSTAMP:20260422T021300
CREATED:20250818T104638Z
LAST-MODIFIED:20250818T105719Z
UID:2197-1756292400-1756292400@raddetaeler.de
SUMMARY:AG Wassermanagement
DESCRIPTION:
URL:https://raddetaeler.de/veranstaltung/ag-wassermanagement-2/
LOCATION:Bürgerhaus Vrees\, Werlter Str. 9\, Vrees\, 49757\, Deutschland
END:VEVENT
BEGIN:VEVENT
DTSTART;TZID=UTC:20250625T093000
DTEND;TZID=UTC:20250625T103000
DTSTAMP:20260422T021300
CREATED:20250620T060815Z
LAST-MODIFIED:20250620T060815Z
UID:2185-1750843800-1750847400@raddetaeler.de
SUMMARY:Spaziergang ins Theikenmeer - öffentliche Führung
DESCRIPTION:Im Rahmen der Woche der Natur der BINGO! Umweltstiftung Niedersachsen bietet die Ökologische Station Raddetäler zwei Führungen ins Naturschutzgebiet „Theikenmeer“ an. \nVon der Natur- und Geoparkstation Theikenmeer an der Sögeler Straße machen wir uns zu Fuß auf den Weg ins Naturschutzgebiet. Mitarbeitende der Ökologische Station sowie Vertreter des NABUs werden ins Gebiet führen\, von seiner Entwicklung berichten und typische Moorlebensräume und ihre Bewohner vorstellen. Ziel der Exkursion ist die Aussichtsplattform\, von der man sowohl auf wiedervernässte Polderflächen als auch aufs Theikenmeer selbst blickt. Mit ein wenig Glück und Geduld werden wir von hier aus u.a. verschiedene Libellenarten sowie Brut- und Rastvögel beobachten. Bitte festes Schuhwerk und\, sofern vorhanden\, Ferngläser mitbringen. \n  \nTreffpunkt:  \nSögeler Straße 110 \n49757 Werlte \nAn der Natur- und Geoparkstation Theikenmeer \n  \nAnmeldung unter: \nMail: info@raddetaeler.de \noder \nTelefon: 04479 948450 \nWeitere Infos zur Ökologischen Station Raddetäler: raddetaeler.de \nWeitere Infos zur Woche der Natur: https://www.bingo-umweltlotterie.de/woche-der-natur
URL:https://raddetaeler.de/veranstaltung/spaziergang-ins-theikenmeer-oeffentliche-fuehrung-2/
LOCATION:Natur- und Geoparkstation Theikenmeer\, Sögeler Straße 110\, Werlte\, 49757
ORGANIZER;CN="%C3%96kologische Station Raddet%C3%A4ler":MAILTO:info@raddetaeler.de
END:VEVENT
BEGIN:VEVENT
DTSTART;TZID=UTC:20250622T163000
DTEND;TZID=UTC:20250622T183000
DTSTAMP:20260422T021300
CREATED:20250620T060547Z
LAST-MODIFIED:20250620T060848Z
UID:2183-1750609800-1750617000@raddetaeler.de
SUMMARY:Spaziergang ins Theikenmeer - öffentliche Führung
DESCRIPTION:Im Rahmen der Woche der Natur der BINGO! Umweltstiftung Niedersachsen bietet die Ökologische Station Raddetäler zwei Führungen ins Naturschutzgebiet „Theikenmeer“ an. \nVon der Natur- und Geoparkstation Theikenmeer an der Sögeler Straße machen wir uns zu Fuß auf den Weg ins Naturschutzgebiet. Mitarbeitende der Ökologische Station sowie Vertreter des NABUs werden ins Gebiet führen\, von seiner Entwicklung berichten und typische Moorlebensräume und ihre Bewohner vorstellen. Ziel der Exkursion ist die Aussichtsplattform\, von der man sowohl auf wiedervernässte Polderflächen als auch aufs Theikenmeer selbst blickt. Mit ein wenig Glück und Geduld werden wir von hier aus u.a. verschiedene Libellenarten sowie Brut- und Rastvögel beobachten. Bitte festes Schuhwerk und\, sofern vorhanden\, Ferngläser mitbringen. \n  \nTreffpunkt:  \nSögeler Straße 110 \n49757 Werlte \nAn der Natur- und Geoparkstation Theikenmeer \n  \nAnmeldung unter: \nMail: info@raddetaeler.de \noder \nTelefon: 04479 948450 \nWeitere Infos zur Ökologischen Station Raddetäler: raddetaeler.de \nWeitere Infos zur Woche der Natur: https://www.bingo-umweltlotterie.de/woche-der-natur
URL:https://raddetaeler.de/veranstaltung/spaziergang-ins-theikenmeer-oeffentliche-fuehrung/
LOCATION:Natur- und Geoparkstation Theikenmeer\, Sögeler Straße 110\, Werlte\, 49757
ORGANIZER;CN="%C3%96kologische Station Raddet%C3%A4ler":MAILTO:info@raddetaeler.de
END:VEVENT
BEGIN:VEVENT
DTSTART;TZID=UTC:20241204T150000
DTEND;TZID=UTC:20241204T170000
DTSTAMP:20260422T021300
CREATED:20241127T081937Z
LAST-MODIFIED:20241127T081937Z
UID:2136-1733324400-1733331600@raddetaeler.de
SUMMARY:Zweckverbandsversammlung
DESCRIPTION:Die letzte Sitzung des Zweckverbands „Ökologische Station Raddetäler“ findet am 04.12.2024. Themen werden u.a. der Haushalt für das kommende Jahr sein.
URL:https://raddetaeler.de/veranstaltung/zweckverbandsversammlung-2/
LOCATION:Bürgerhaus Vrees\, Werlter Str. 9\, Vrees\, 49757\, Deutschland
END:VEVENT
BEGIN:VEVENT
DTSTART;TZID=UTC:20240905T190000
DTEND;TZID=UTC:20240905T200000
DTSTAMP:20260422T021300
CREATED:20240830T104622Z
LAST-MODIFIED:20240830T104622Z
UID:2129-1725562800-1725566400@raddetaeler.de
SUMMARY:Zweckverbandsversammlung
DESCRIPTION:Im Anschluss an die Beiratssitzung sollen die neuen Beschlussempfehlungen des Beirats unmittelbar von der Verbandsversammlung des Zweckverbands „Ökologische Station Raddetäler“ besprochen werden. \nWeitere Themen siehe Tagesordnung (u.a. unter „Aktuelles“)
URL:https://raddetaeler.de/veranstaltung/zweckverbandsversammlung/
LOCATION:Bürgerhaus Vrees\, Werlter Str. 9\, Vrees\, 49757\, Deutschland
END:VEVENT
BEGIN:VEVENT
DTSTART;TZID=UTC:20240905T170000
DTEND;TZID=UTC:20240905T190000
DTSTAMP:20260422T021300
CREATED:20240708T132126Z
LAST-MODIFIED:20240807T110707Z
UID:1851-1725555600-1725562800@raddetaeler.de
SUMMARY:Beiratssitzung Ökologische Station Raddetäler
DESCRIPTION:Am Donnerstag\, den 5. September um 17 Uhr findet die diesjährige Sitzung des Beirats der Ökologischen Station Raddetäler im Seminarraum des Bürgerhaus in Vrees statt. Themen : \n\nPrädationsmanagement\,\nWassermanagement\,\nFlächenbewirtschaftung und\nÖffentlichkeitsarbeit
URL:https://raddetaeler.de/veranstaltung/beiratssitzung-oekologische-station-raddetaeler/
LOCATION:Bürgerhaus Vrees\, Werlter Str. 9\, Vrees\, 49757\, Deutschland
END:VEVENT
BEGIN:VEVENT
DTSTART;TZID=UTC:20240904T140000
DTEND;TZID=UTC:20240904T170000
DTSTAMP:20260422T021300
CREATED:20240826T140600Z
LAST-MODIFIED:20240826T140600Z
UID:2115-1725458400-1725469200@raddetaeler.de
SUMMARY:Treffen und Exkursion AG Flächenbewirtschaftung
DESCRIPTION:
URL:https://raddetaeler.de/veranstaltung/treffen-und-exkursion-ag-flaechenbewirtschaftung/
ORGANIZER;CN="%C3%96kologische Station Raddet%C3%A4ler":MAILTO:info@raddetaeler.de
END:VEVENT
BEGIN:VEVENT
DTSTART;TZID=UTC:20240812T140000
DTEND;TZID=UTC:20240812T160000
DTSTAMP:20260422T021300
CREATED:20240715T093836Z
LAST-MODIFIED:20240807T110259Z
UID:1872-1723471200-1723478400@raddetaeler.de
SUMMARY:AG Wassermanagement
DESCRIPTION:Am 12.08.24 um 14 Uhr findet im Bürgerhaus in Vrees die zweite Sitzung der AG Wassermanagement statt. Alle Interessierten\, auch wenn sie nicht Mitglied im Beirat sind\, sind herzlich willkommen.
URL:https://raddetaeler.de/veranstaltung/ag-wassermanagement/
LOCATION:Bürgerhaus Vrees\, Werlter Str. 9\, Vrees\, 49757\, Deutschland
ORGANIZER;CN="%C3%96kologische Station Raddet%C3%A4ler":MAILTO:info@raddetaeler.de
END:VEVENT
END:VCALENDAR